BEGIN:VCALENDAR
VERSION:2.0
PRODID:-//eventon.com NONSGML v1.0//EN
CALSCALE:GREGORIAN
METHOD:PUBLISH
BEGIN:VEVENT
UID:69e5eaf7e7c83
DTSTAMP:20260420T085935Z
DTSTART:20260516T110000Z
DTEND:20260516T180000Z
LOCATION:Quicksilver Golf Club 2000 Quicksilver Rd\,  Midway\,  PA 15060
SUMMARY:4th Annual Fundraising Golf Tournament - 2026
DESCRIPTION:Sign Up Today On May 16\,  2026\,  Life Changing Service Dogs f
 or Veterans organization will host its 4th Annual Golf Tournament Fundraise
 r at Quicksilver Golf Club. This event is aimed at raising funds to provide
 \,  at no cost\,  a Service Dog to qualified Veterans who suffer from PTSD 
 and other[..]\nhttps://www.padogsforvets.org/events/4th-annual-fundraising-
 golf-tournament-2026/
URL:https://www.padogsforvets.org/events/4th-annual-fundraising-golf-tournament-2026/
END:VEVENT
END:VCALENDAR