BEGIN:VCALENDAR
VERSION:2.0
PRODID:-//eventon.com NONSGML v1.0//EN
CALSCALE:GREGORIAN
METHOD:PUBLISH
BEGIN:VEVENT
UID:69e5eefc1ac27
DTSTAMP:20260420T091644Z
DTSTART:20260429T140000Z
DTEND:20260429T080000Z
LOCATION:La Roche University CC Square 9000 Babcock Blvd\,  Pittsburgh\,  PA 15237
SUMMARY:La Roche University Canines For Courage 2nd Annual Carnival.
DESCRIPTION:Canines For Courage – 2nd Annual Carnival Date: Wednesday\,  
 April 29 Time: 2:00 PM – 8:00 PM Location: La Roche University – CC Squ
 are 9000 Babcock Blvd.\,  Pittsburgh\,  PA 15237 Join us for the 2nd Annual
  Canines For Courage Carnival\,  presented by the La Roche University Marke
 ting for Nonprofits Class\, [..]\nhttps://www.padogsforvets.org/events/la-r
 oche-university-canines-for-courage-2nd-annual-carnival/
URL:https://www.padogsforvets.org/events/la-roche-university-canines-for-courage-2nd-annual-carnival/
END:VEVENT
END:VCALENDAR